BEGIN:VCALENDAR
VERSION:2.0
PRODID:-//Missouri AfterSchool Network - ECPv6.15.16.1//NONSGML v1.0//EN
CALSCALE:GREGORIAN
METHOD:PUBLISH
X-ORIGINAL-URL:https://moafterschool.org
X-WR-CALDESC:Events for Missouri AfterSchool Network
REFRESH-INTERVAL;VALUE=DURATION:PT1H
X-Robots-Tag:noindex
X-PUBLISHED-TTL:PT1H
BEGIN:VTIMEZONE
TZID:UTC
BEGIN:STANDARD
TZOFFSETFROM:+0000
TZOFFSETTO:+0000
TZNAME:UTC
DTSTART:20230101T000000
END:STANDARD
END:VTIMEZONE
BEGIN:VEVENT
DTSTART;VALUE=DATE:20241122
DTEND;VALUE=DATE:20241125
DTSTAMP:20260425T073005
CREATED:20240520T235419Z
LAST-MODIFIED:20241118T170234Z
UID:6487-1732233600-1732492799@moafterschool.org
SUMMARY:Missouri School Age Conference (MOSAC)
DESCRIPTION:
URL:https://moafterschool.org/calendar/mosac/
LOCATION:Lodge of the Four Seasons\, 315 Four Seasons Dr\, Lake Ozark\, Missouri\, 65049
CATEGORIES:Director's Meeting,MOSAC,Policy and Advocacy,Professional Development,STEM
ATTACH;FMTTYPE=image/jpeg:https://moafterschool.org/wp-content/uploads/2024/05/mosac-24-graphic-1.3-1.jpg
ORGANIZER;CN="Brad Lademann":MAILTO:lademannb@missouri.edu
END:VEVENT
END:VCALENDAR