BEGIN:VCALENDAR
VERSION:2.0
PRODID:-//Missouri AfterSchool Network - ECPv6.15.16.1//NONSGML v1.0//EN
CALSCALE:GREGORIAN
METHOD:PUBLISH
X-WR-CALNAME:Missouri AfterSchool Network
X-ORIGINAL-URL:https://moafterschool.org
X-WR-CALDESC:Events for Missouri AfterSchool Network
REFRESH-INTERVAL;VALUE=DURATION:PT1H
X-Robots-Tag:noindex
X-PUBLISHED-TTL:PT1H
BEGIN:VTIMEZONE
TZID:UTC
BEGIN:STANDARD
TZOFFSETFROM:+0000
TZOFFSETTO:+0000
TZNAME:UTC
DTSTART:20230101T000000
END:STANDARD
END:VTIMEZONE
BEGIN:VEVENT
DTSTART;VALUE=DATE:20240515
DTEND;VALUE=DATE:20240516
DTSTAMP:20260425T131057
CREATED:20250909T180425Z
LAST-MODIFIED:20250909T180425Z
UID:11030-1715731200-1715817599@moafterschool.org
SUMMARY:Pitch Challenge: Open for Submissions
DESCRIPTION:MASN invites students in afterschool programs and youth organizations to participate in the 2024 Missouri Youth Entrepreneurship Pitch Challenge Open May 15-July 15.\n \nStudents benefit when immersed in micro-enterprise and entrepreneurial opportunities that connect them with peers to cultivate the entrepreneurial mindset.   \n 
URL:https://moafterschool.org/calendar/pitch-challenge-open-for-submissions/
ATTACH;FMTTYPE=image/png:https://moafterschool.org/wp-content/uploads/2024/05/1-e1716233049984.png
ORGANIZER;CN="Aaron Banks":MAILTO:abanks@missouri.edu
END:VEVENT
END:VCALENDAR