BEGIN:VCALENDAR
VERSION:2.0
PRODID:-//Missouri AfterSchool Network - ECPv6.15.16.1//NONSGML v1.0//EN
CALSCALE:GREGORIAN
METHOD:PUBLISH
X-WR-CALNAME:Missouri AfterSchool Network
X-ORIGINAL-URL:https://moafterschool.org
X-WR-CALDESC:Events for Missouri AfterSchool Network
REFRESH-INTERVAL;VALUE=DURATION:PT1H
X-Robots-Tag:noindex
X-PUBLISHED-TTL:PT1H
BEGIN:VTIMEZONE
TZID:America/New_York
BEGIN:DAYLIGHT
TZOFFSETFROM:-0500
TZOFFSETTO:-0400
TZNAME:EDT
DTSTART:20230312T070000
END:DAYLIGHT
BEGIN:STANDARD
TZOFFSETFROM:-0400
TZOFFSETTO:-0500
TZNAME:EST
DTSTART:20231105T060000
END:STANDARD
BEGIN:DAYLIGHT
TZOFFSETFROM:-0500
TZOFFSETTO:-0400
TZNAME:EDT
DTSTART:20240310T070000
END:DAYLIGHT
BEGIN:STANDARD
TZOFFSETFROM:-0400
TZOFFSETTO:-0500
TZNAME:EST
DTSTART:20241103T060000
END:STANDARD
BEGIN:DAYLIGHT
TZOFFSETFROM:-0500
TZOFFSETTO:-0400
TZNAME:EDT
DTSTART:20250309T070000
END:DAYLIGHT
BEGIN:STANDARD
TZOFFSETFROM:-0400
TZOFFSETTO:-0500
TZNAME:EST
DTSTART:20251102T060000
END:STANDARD
BEGIN:DAYLIGHT
TZOFFSETFROM:-0500
TZOFFSETTO:-0400
TZNAME:EDT
DTSTART:20260308T070000
END:DAYLIGHT
BEGIN:STANDARD
TZOFFSETFROM:-0400
TZOFFSETTO:-0500
TZNAME:EST
DTSTART:20261101T060000
END:STANDARD
END:VTIMEZONE
BEGIN:VTIMEZONE
TZID:America/Chicago
BEGIN:DAYLIGHT
TZOFFSETFROM:-0600
TZOFFSETTO:-0500
TZNAME:CDT
DTSTART:20230312T080000
END:DAYLIGHT
BEGIN:STANDARD
TZOFFSETFROM:-0500
TZOFFSETTO:-0600
TZNAME:CST
DTSTART:20231105T070000
END:STANDARD
BEGIN:DAYLIGHT
TZOFFSETFROM:-0600
TZOFFSETTO:-0500
TZNAME:CDT
DTSTART:20240310T080000
END:DAYLIGHT
BEGIN:STANDARD
TZOFFSETFROM:-0500
TZOFFSETTO:-0600
TZNAME:CST
DTSTART:20241103T070000
END:STANDARD
BEGIN:DAYLIGHT
TZOFFSETFROM:-0600
TZOFFSETTO:-0500
TZNAME:CDT
DTSTART:20250309T080000
END:DAYLIGHT
BEGIN:STANDARD
TZOFFSETFROM:-0500
TZOFFSETTO:-0600
TZNAME:CST
DTSTART:20251102T070000
END:STANDARD
BEGIN:DAYLIGHT
TZOFFSETFROM:-0600
TZOFFSETTO:-0500
TZNAME:CDT
DTSTART:20260308T080000
END:DAYLIGHT
BEGIN:STANDARD
TZOFFSETFROM:-0500
TZOFFSETTO:-0600
TZNAME:CST
DTSTART:20261101T070000
END:STANDARD
END:VTIMEZONE
BEGIN:VEVENT
DTSTART;VALUE=DATE:20250305
DTEND;VALUE=DATE:20250306
DTSTAMP:20260425T060030
CREATED:20250909T174603Z
LAST-MODIFIED:20250909T174603Z
UID:11013-1741132800-1741219199@moafterschool.org
SUMMARY:STEM Day at the Capitol
DESCRIPTION:The Missouri Math and Science Coalition hosts an annual STEM Day at the Capitol to educate elected officials about the benefits of STEM education. Afterschool programs can exhibit and share creative and impactful activities that inspire children and youth to embrace STEM.
URL:https://moafterschool.org/calendar/stem-day-at-the-capitol-2/
LOCATION:Missouri State Capitol\, 201 W Capitol Ave\, Jefferson City\, MO\, 65101\, United States
CATEGORIES:STEM
ATTACH;FMTTYPE=image/png:https://moafterschool.org/wp-content/uploads/2024/04/cropped-Transparent-1.png
ORGANIZER;CN="Beth Rasa Edwards":MAILTO:rasab@missouri.edu
END:VEVENT
BEGIN:VEVENT
DTSTART;VALUE=DATE:20250304
DTEND;VALUE=DATE:20250306
DTSTAMP:20260425T060030
CREATED:20240802T145526Z
LAST-MODIFIED:20240917T173700Z
UID:7661-1741046400-1741219199@moafterschool.org
SUMMARY:Afterschool Leadership Conference
DESCRIPTION:Exclusively for leaders of afterschool programs.\nThe Kansas Enrichment Network (KEN) and MASN will co-host a new\, two-day conference in Kansas City in the spring of 2025. The content of the sessions will focus on topics of interest to program administrators and directors. (Approximately 7-9 clock hours available.)
URL:https://moafterschool.org/calendar/ks-mo-afterschool-leadership-conference/
LOCATION:The Kauffman Center for the Performing Arts\, 1601 Broadway Blvd\, Kansas City\, 64108\, United States
ATTACH;FMTTYPE=image/png:https://moafterschool.org/wp-content/uploads/2024/08/Afterschool-Leadership-Conference-Logo-scaled.png
ORGANIZER;CN="Brad Lademann":MAILTO:lademannb@missouri.edu
END:VEVENT
BEGIN:VEVENT
DTSTART;TZID=America/New_York:20250227T100000
DTEND;TZID=America/New_York:20250227T120000
DTSTAMP:20260425T060030
CREATED:20240613T192630Z
LAST-MODIFIED:20240802T134814Z
UID:6746-1740650400-1740657600@moafterschool.org
SUMMARY:STEM Committee Meeting
DESCRIPTION:
URL:https://moafterschool.org/calendar/stem-committee-meeting-3/
CATEGORIES:Committees,STEM,STEM Committee
ORGANIZER;CN="Beth Rasa Edwards":MAILTO:rasab@missouri.edu
END:VEVENT
BEGIN:VEVENT
DTSTART;VALUE=DATE:20250219
DTEND;VALUE=DATE:20250220
DTSTAMP:20260425T060030
CREATED:20240613T192537Z
LAST-MODIFIED:20240613T195817Z
UID:6744-1739923200-1740009599@moafterschool.org
SUMMARY:Show Me Afterschool Day at the Capitol
DESCRIPTION:
URL:https://moafterschool.org/calendar/show-me-afterschool-day-at-the-capitol/
LOCATION:Missouri State Capitol\, 201 W Capitol Ave\, Jefferson City\, MO\, 65101\, United States
CATEGORIES:Afterschool Ambassadors,Afterschool Leadership Team,Policy and Advocacy
ORGANIZER;CN="Natalie Hampton":MAILTO:hamptonn@missouri.edu
END:VEVENT
BEGIN:VEVENT
DTSTART;TZID=America/New_York:20250218T100000
DTEND;TZID=America/New_York:20250218T113000
DTSTAMP:20260425T060030
CREATED:20240613T192243Z
LAST-MODIFIED:20240613T192859Z
UID:6738-1739872800-1739878200@moafterschool.org
SUMMARY:Pipeline LIVE! Monthly Director Update
DESCRIPTION:
URL:https://moafterschool.org/calendar/pipeline-live-monthly-director-update-5/
CATEGORIES:Director's Meeting,Pipeline LIVE!
END:VEVENT
BEGIN:VEVENT
DTSTART;VALUE=DATE:20250218
DTEND;VALUE=DATE:20250219
DTSTAMP:20260425T060030
CREATED:20240613T192450Z
LAST-MODIFIED:20240613T192450Z
UID:6742-1739836800-1739923199@moafterschool.org
SUMMARY:Ambassador Meeting
DESCRIPTION:
URL:https://moafterschool.org/calendar/ambassador-meeting/
CATEGORIES:Afterschool Ambassadors,Policy and Advocacy
END:VEVENT
BEGIN:VEVENT
DTSTART;VALUE=DATE:20250218
DTEND;VALUE=DATE:20250219
DTSTAMP:20260425T060030
CREATED:20240613T192353Z
LAST-MODIFIED:20240613T192353Z
UID:6740-1739836800-1739923199@moafterschool.org
SUMMARY:Afterschool Leadership Team Retreat
DESCRIPTION:
URL:https://moafterschool.org/calendar/afterschool-leadership-team-retreat-2/
CATEGORIES:Afterschool Leadership Team
END:VEVENT
BEGIN:VEVENT
DTSTART;TZID=America/New_York:20250213T100000
DTEND;TZID=America/New_York:20250213T120000
DTSTAMP:20260425T060030
CREATED:20240613T192203Z
LAST-MODIFIED:20240613T192203Z
UID:6736-1739440800-1739448000@moafterschool.org
SUMMARY:Policy Committee Meeting
DESCRIPTION:
URL:https://moafterschool.org/calendar/policy-committee-meeting-3/
END:VEVENT
BEGIN:VEVENT
DTSTART;VALUE=DATE:20250212
DTEND;VALUE=DATE:20250213
DTSTAMP:20260425T060030
CREATED:20240613T192119Z
LAST-MODIFIED:20240613T192119Z
UID:6734-1739318400-1739404799@moafterschool.org
SUMMARY:Director Networking Call
DESCRIPTION:
URL:https://moafterschool.org/calendar/director-networking-call-5/
CATEGORIES:Director's Meeting
END:VEVENT
BEGIN:VEVENT
DTSTART;VALUE=DATE:20250207
DTEND;VALUE=DATE:20250208
DTSTAMP:20260425T060030
CREATED:20240613T192052Z
LAST-MODIFIED:20240613T192052Z
UID:6732-1738886400-1738972799@moafterschool.org
SUMMARY:Non-Grantee Technical Assistance: Virtual Office Hours
DESCRIPTION:
URL:https://moafterschool.org/calendar/non-grantee-technical-assistance-virtual-office-hours-4/
CATEGORIES:Technical Assistance
END:VEVENT
BEGIN:VEVENT
DTSTART;VALUE=DATE:20250205
DTEND;VALUE=DATE:20250206
DTSTAMP:20260425T060030
CREATED:20240613T192016Z
LAST-MODIFIED:20240613T192016Z
UID:6730-1738713600-1738799999@moafterschool.org
SUMMARY:Entrepreneurship/CAPSA Youth Workforce Initiatives PLC
DESCRIPTION:
URL:https://moafterschool.org/calendar/entrepreneurship-capsa-youth-workforce-initiatives-plc-4/
CATEGORIES:Peer Learning Community (PLC)
END:VEVENT
BEGIN:VEVENT
DTSTART;VALUE=DATE:20250203
DTEND;VALUE=DATE:20250208
DTSTAMP:20260425T060030
CREATED:20240613T191934Z
LAST-MODIFIED:20240613T191934Z
UID:6728-1738540800-1738972799@moafterschool.org
SUMMARY:STEM PLC Coaching Circle (Time/date set by Coach)
DESCRIPTION:
URL:https://moafterschool.org/calendar/stem-plc-coaching-circle-time-date-set-by-coach-4/
CATEGORIES:STEM,STEM PLC
END:VEVENT
BEGIN:VEVENT
DTSTART;TZID=America/New_York:20250123T100000
DTEND;TZID=America/New_York:20250123T120000
DTSTAMP:20260425T060030
CREATED:20240613T191425Z
LAST-MODIFIED:20250312T154031Z
UID:6718-1737626400-1737633600@moafterschool.org
SUMMARY:Public Awareness Committee Meeting
DESCRIPTION:
URL:https://moafterschool.org/calendar/public-awareness-committee-meeting-2/
CATEGORIES:Committees,Public Awareness Committee
END:VEVENT
BEGIN:VEVENT
DTSTART;VALUE=DATE:20250120
DTEND;VALUE=DATE:20250125
DTSTAMP:20260425T060030
CREATED:20240613T191733Z
LAST-MODIFIED:20240613T191733Z
UID:6724-1737331200-1737763199@moafterschool.org
SUMMARY:STEM PLC Coaching Circle (Time/date set by Coach)
DESCRIPTION:
URL:https://moafterschool.org/calendar/stem-plc-coaching-circle-time-date-set-by-coach-3/
CATEGORIES:Peer Learning Community (PLC),STEM,STEM PLC
END:VEVENT
BEGIN:VEVENT
DTSTART;VALUE=DATE:20250116
DTEND;VALUE=DATE:20250117
DTSTAMP:20260425T060030
CREATED:20240613T191842Z
LAST-MODIFIED:20240613T195907Z
UID:6726-1736985600-1737071999@moafterschool.org
SUMMARY:STEM Educator Symposium
DESCRIPTION:
URL:https://moafterschool.org/calendar/stem-educator-symposium/
LOCATION:Missouri S&T Kummer Center for STEM Education\, ​3026 Laclede Ave\, St. Louis\, MO\, 63103\, United States
CATEGORIES:Professional Development,STEM
ORGANIZER;CN="Aaron Banks":MAILTO:abanks@missouri.edu
END:VEVENT
BEGIN:VEVENT
DTSTART;TZID=America/New_York:20250115T183000
DTEND;TZID=America/New_York:20250115T193000
DTSTAMP:20260425T060030
CREATED:20240613T191623Z
LAST-MODIFIED:20240613T191623Z
UID:6722-1736965800-1736969400@moafterschool.org
SUMMARY:Ambassador Meeting (Option 2)
DESCRIPTION:
URL:https://moafterschool.org/calendar/ambassador-meeting-option-2-4/
CATEGORIES:Afterschool Ambassadors,Policy and Advocacy
END:VEVENT
BEGIN:VEVENT
DTSTART;TZID=America/New_York:20250115T110000
DTEND;TZID=America/New_York:20250115T120000
DTSTAMP:20260425T060030
CREATED:20240613T191541Z
LAST-MODIFIED:20240613T191541Z
UID:6720-1736938800-1736942400@moafterschool.org
SUMMARY:Ambassador Meeting (Option 1)
DESCRIPTION:
URL:https://moafterschool.org/calendar/ambassador-meeting-option-1-5/
CATEGORIES:Afterschool Ambassadors,Policy and Advocacy
END:VEVENT
BEGIN:VEVENT
DTSTART;TZID=America/New_York:20250108T130000
DTEND;TZID=America/New_York:20250108T140000
DTSTAMP:20260425T060030
CREATED:20240613T191336Z
LAST-MODIFIED:20240613T191336Z
UID:6716-1736341200-1736344800@moafterschool.org
SUMMARY:Director Networking Call
DESCRIPTION:
URL:https://moafterschool.org/calendar/director-networking-call-4/
CATEGORIES:Director's Meeting
END:VEVENT
BEGIN:VEVENT
DTSTART;VALUE=DATE:20250108
DTEND;VALUE=DATE:20250109
DTSTAMP:20260425T060030
CREATED:20240613T191254Z
LAST-MODIFIED:20240613T191254Z
UID:6714-1736294400-1736380799@moafterschool.org
SUMMARY:Entrepreneurship/CAPSA Youth Workforce Initiatives PLC
DESCRIPTION:
URL:https://moafterschool.org/calendar/entrepreneurship-capsa-youth-workforce-initiatives-plc-3/
CATEGORIES:Peer Learning Community (PLC)
END:VEVENT
BEGIN:VEVENT
DTSTART;VALUE=DATE:20250106
DTEND;VALUE=DATE:20250111
DTSTAMP:20260425T060030
CREATED:20240613T191204Z
LAST-MODIFIED:20240613T191204Z
UID:6712-1736121600-1736553599@moafterschool.org
SUMMARY:STEM PLC Coaching Circle (Date/time set by coach)
DESCRIPTION:
URL:https://moafterschool.org/calendar/stem-plc-coaching-circle-date-time-set-by-coach/
CATEGORIES:STEM,STEM PLC
END:VEVENT
BEGIN:VEVENT
DTSTART;TZID=America/New_York:20241218T183000
DTEND;TZID=America/New_York:20241218T193000
DTSTAMP:20260425T060030
CREATED:20240613T190954Z
LAST-MODIFIED:20240613T190954Z
UID:6710-1734546600-1734550200@moafterschool.org
SUMMARY:Ambassador Meeting (Option 2)
DESCRIPTION:
URL:https://moafterschool.org/calendar/ambassador-meeting-option-2-3/
CATEGORIES:Afterschool Ambassadors,Policy and Advocacy
END:VEVENT
BEGIN:VEVENT
DTSTART;TZID=America/New_York:20241218T110000
DTEND;TZID=America/New_York:20241218T120000
DTSTAMP:20260425T060030
CREATED:20240613T190840Z
LAST-MODIFIED:20240613T190840Z
UID:6708-1734519600-1734523200@moafterschool.org
SUMMARY:Ambassador Meeting (Option 1)
DESCRIPTION:
URL:https://moafterschool.org/calendar/ambassador-meeting-option-1-4/
CATEGORIES:Afterschool Ambassadors,Policy and Advocacy
END:VEVENT
BEGIN:VEVENT
DTSTART;TZID=America/New_York:20241217T100000
DTEND;TZID=America/New_York:20241217T233000
DTSTAMP:20260425T060030
CREATED:20240613T190724Z
LAST-MODIFIED:20240613T192919Z
UID:6706-1734429600-1734478200@moafterschool.org
SUMMARY:Pipeline LIVE! Monthly Director Update
DESCRIPTION:
URL:https://moafterschool.org/calendar/pipeline-live-monthly-director-update-4/
CATEGORIES:Director's Meeting,Pipeline LIVE!
END:VEVENT
BEGIN:VEVENT
DTSTART;TZID=America/New_York:20241212T100000
DTEND;TZID=America/New_York:20241212T120000
DTSTAMP:20260425T060030
CREATED:20240613T190626Z
LAST-MODIFIED:20240613T190626Z
UID:6704-1733997600-1734004800@moafterschool.org
SUMMARY:STEM Committee Meeting
DESCRIPTION:
URL:https://moafterschool.org/calendar/stem-committee-meeting-2/
CATEGORIES:Committees,STEM,STEM Committee
END:VEVENT
BEGIN:VEVENT
DTSTART;TZID=America/New_York:20241211T130000
DTEND;TZID=America/New_York:20241211T140000
DTSTAMP:20260425T060030
CREATED:20240613T190523Z
LAST-MODIFIED:20240613T190523Z
UID:6702-1733922000-1733925600@moafterschool.org
SUMMARY:Director Networking Call
DESCRIPTION:
URL:https://moafterschool.org/calendar/director-networking-call-3/
CATEGORIES:Director's Meeting
END:VEVENT
BEGIN:VEVENT
DTSTART;TZID=America/New_York:20241210T183000
DTEND;TZID=America/New_York:20241210T200000
DTSTAMP:20260425T060030
CREATED:20240613T190416Z
LAST-MODIFIED:20240613T190416Z
UID:6700-1733855400-1733860800@moafterschool.org
SUMMARY:STEM PLC - Full Group (Option 2)
DESCRIPTION:
URL:https://moafterschool.org/calendar/stem-plc-full-group-option-2/
CATEGORIES:Peer Learning Community (PLC),STEM PLC
END:VEVENT
BEGIN:VEVENT
DTSTART;TZID=America/New_York:20241210T100000
DTEND;TZID=America/New_York:20241210T120000
DTSTAMP:20260425T060030
CREATED:20240613T190314Z
LAST-MODIFIED:20240613T190314Z
UID:6698-1733824800-1733832000@moafterschool.org
SUMMARY:STEM PLC - Full Group (Option 1)
DESCRIPTION:
URL:https://moafterschool.org/calendar/stem-plc-full-group-option-1/
END:VEVENT
BEGIN:VEVENT
DTSTART;VALUE=DATE:20241206
DTEND;VALUE=DATE:20241207
DTSTAMP:20260425T060030
CREATED:20240613T190219Z
LAST-MODIFIED:20240613T190219Z
UID:6696-1733443200-1733529599@moafterschool.org
SUMMARY:Non-Grantee Technical Assistance: Virtual Office Hours
DESCRIPTION:
URL:https://moafterschool.org/calendar/non-grantee-technical-assistance-virtual-office-hours-3/
CATEGORIES:Technical Assistance
END:VEVENT
BEGIN:VEVENT
DTSTART;VALUE=DATE:20241204
DTEND;VALUE=DATE:20241205
DTSTAMP:20260425T060030
CREATED:20240613T190023Z
LAST-MODIFIED:20240613T190029Z
UID:6693-1733270400-1733356799@moafterschool.org
SUMMARY:Entrepreneurship/CAPSA Youth Workforce Initiatives PLC
DESCRIPTION:
URL:https://moafterschool.org/calendar/entrepreneurshipcapsa-youth-workforce-initiatives-plc/
CATEGORIES:Peer Learning Community (PLC)
END:VEVENT
BEGIN:VEVENT
DTSTART;VALUE=DATE:20241124
DTEND;VALUE=DATE:20241125
DTSTAMP:20260425T060030
CREATED:20241118T165747Z
LAST-MODIFIED:20241118T170626Z
UID:8869-1732406400-1732492799@moafterschool.org
SUMMARY:MOSAC Professional Development Institute
DESCRIPTION:
URL:https://moafterschool.org/calendar/mosac-professional-development-institute-3/
ORGANIZER;CN="Brad Lademann":MAILTO:lademannb@missouri.edu
END:VEVENT
END:VCALENDAR