BEGIN:VCALENDAR
VERSION:2.0
PRODID:-//Missouri AfterSchool Network - ECPv6.15.16.1//NONSGML v1.0//EN
CALSCALE:GREGORIAN
METHOD:PUBLISH
X-WR-CALNAME:Missouri AfterSchool Network
X-ORIGINAL-URL:https://moafterschool.org
X-WR-CALDESC:Events for Missouri AfterSchool Network
REFRESH-INTERVAL;VALUE=DURATION:PT1H
X-Robots-Tag:noindex
X-PUBLISHED-TTL:PT1H
BEGIN:VTIMEZONE
TZID:America/New_York
BEGIN:DAYLIGHT
TZOFFSETFROM:-0500
TZOFFSETTO:-0400
TZNAME:EDT
DTSTART:20240310T070000
END:DAYLIGHT
BEGIN:STANDARD
TZOFFSETFROM:-0400
TZOFFSETTO:-0500
TZNAME:EST
DTSTART:20241103T060000
END:STANDARD
BEGIN:DAYLIGHT
TZOFFSETFROM:-0500
TZOFFSETTO:-0400
TZNAME:EDT
DTSTART:20250309T070000
END:DAYLIGHT
BEGIN:STANDARD
TZOFFSETFROM:-0400
TZOFFSETTO:-0500
TZNAME:EST
DTSTART:20251102T060000
END:STANDARD
BEGIN:DAYLIGHT
TZOFFSETFROM:-0500
TZOFFSETTO:-0400
TZNAME:EDT
DTSTART:20260308T070000
END:DAYLIGHT
BEGIN:STANDARD
TZOFFSETFROM:-0400
TZOFFSETTO:-0500
TZNAME:EST
DTSTART:20261101T060000
END:STANDARD
BEGIN:DAYLIGHT
TZOFFSETFROM:-0500
TZOFFSETTO:-0400
TZNAME:EDT
DTSTART:20270314T070000
END:DAYLIGHT
BEGIN:STANDARD
TZOFFSETFROM:-0400
TZOFFSETTO:-0500
TZNAME:EST
DTSTART:20271107T060000
END:STANDARD
END:VTIMEZONE
BEGIN:VTIMEZONE
TZID:America/Chicago
BEGIN:DAYLIGHT
TZOFFSETFROM:-0600
TZOFFSETTO:-0500
TZNAME:CDT
DTSTART:20250309T080000
END:DAYLIGHT
BEGIN:STANDARD
TZOFFSETFROM:-0500
TZOFFSETTO:-0600
TZNAME:CST
DTSTART:20251102T070000
END:STANDARD
BEGIN:DAYLIGHT
TZOFFSETFROM:-0600
TZOFFSETTO:-0500
TZNAME:CDT
DTSTART:20260308T080000
END:DAYLIGHT
BEGIN:STANDARD
TZOFFSETFROM:-0500
TZOFFSETTO:-0600
TZNAME:CST
DTSTART:20261101T070000
END:STANDARD
BEGIN:DAYLIGHT
TZOFFSETFROM:-0600
TZOFFSETTO:-0500
TZNAME:CDT
DTSTART:20270314T080000
END:DAYLIGHT
BEGIN:STANDARD
TZOFFSETFROM:-0500
TZOFFSETTO:-0600
TZNAME:CST
DTSTART:20271107T070000
END:STANDARD
END:VTIMEZONE
BEGIN:VEVENT
DTSTART;VALUE=DATE:20250219
DTEND;VALUE=DATE:20250220
DTSTAMP:20260425T091735
CREATED:20240613T192537Z
LAST-MODIFIED:20240613T195817Z
UID:6744-1739923200-1740009599@moafterschool.org
SUMMARY:Show Me Afterschool Day at the Capitol
DESCRIPTION:
URL:https://moafterschool.org/calendar/show-me-afterschool-day-at-the-capitol/
LOCATION:Missouri State Capitol\, 201 W Capitol Ave\, Jefferson City\, MO\, 65101\, United States
CATEGORIES:Afterschool Ambassadors,Afterschool Leadership Team,Policy and Advocacy
ORGANIZER;CN="Natalie Hampton":MAILTO:hamptonn@missouri.edu
END:VEVENT
BEGIN:VEVENT
DTSTART;VALUE=DATE:20260107
DTEND;VALUE=DATE:20260108
DTSTAMP:20260425T091735
CREATED:20250909T173050Z
LAST-MODIFIED:20250909T173050Z
UID:11003-1767744000-1767830399@moafterschool.org
SUMMARY:Missouri Legislative Session Begins
DESCRIPTION:
URL:https://moafterschool.org/calendar/missouri-legislative-session-begins/
LOCATION:Missouri State Capitol\, 201 W Capitol Ave\, Jefferson City\, MO\, 65101\, United States
CATEGORIES:Policy and Advocacy
ORGANIZER;CN="Natalie Hampton":MAILTO:hamptonn@missouri.edu
END:VEVENT
BEGIN:VEVENT
DTSTART;VALUE=DATE:20260121
DTEND;VALUE=DATE:20260122
DTSTAMP:20260425T091735
CREATED:20250909T173338Z
LAST-MODIFIED:20250909T173338Z
UID:11005-1768953600-1769039999@moafterschool.org
SUMMARY:Show Me Afterschool Day at the Capitol
DESCRIPTION:Show Me Afterschool Day at the Capitol is an enriching opportunity for afterschool professionals\, youth\, and parents to tell the story of afterschool. MASN helps you set up meetings with legislators to discuss your program and the benefits of afterschool programs statewide. This effort supports partnerships\, promotes policies\, and ensures quality afterschool programs. Please join us by bringing your youth and/or parents to visit legislators. Programs can exhibit in the rotunda and your legislator can help arrange capital tours.
URL:https://moafterschool.org/calendar/show-me-afterschool-day-at-the-capitol-2/
LOCATION:Missouri State Capitol\, 201 W Capitol Ave\, Jefferson City\, MO\, 65101\, United States
CATEGORIES:Afterschool Ambassadors,Policy and Advocacy
ORGANIZER;CN="Natalie Hampton":MAILTO:hamptonn@missouri.edu
END:VEVENT
BEGIN:VEVENT
DTSTART;VALUE=DATE:20260310
DTEND;VALUE=DATE:20260312
DTSTAMP:20260425T091735
CREATED:20250909T174821Z
LAST-MODIFIED:20250909T175409Z
UID:11015-1773100800-1773273599@moafterschool.org
SUMMARY:Afterschool for All Challenge
DESCRIPTION:
URL:https://moafterschool.org/calendar/afterschool-for-all-challenge/
CATEGORIES:Policy and Advocacy
ORGANIZER;CN="Natalie Hampton":MAILTO:hamptonn@missouri.edu
END:VEVENT
BEGIN:VEVENT
DTSTART;VALUE=DATE:20260325
DTEND;VALUE=DATE:20260326
DTSTAMP:20260425T091735
CREATED:20250909T175332Z
LAST-MODIFIED:20250909T175332Z
UID:11020-1774396800-1774483199@moafterschool.org
SUMMARY:Child Advocacy Day at the Capitol
DESCRIPTION:Missouri Child Advocacy Day is a 43-year tradition bringing together children’s advocates\, parents\, providers\, and community leaders during the legislative session. This is a unique opportunity for the afterschool community to join with other child advocacy groups from around the state to ensure that legislators keep youth and families as a priority during the legislative session.
URL:https://moafterschool.org/calendar/child-advocacy-day-at-the-capitol/
LOCATION:Missouri State Capitol\, 201 W Capitol Ave\, Jefferson City\, MO\, 65101\, United States
CATEGORIES:Policy and Advocacy
ORGANIZER;CN="Natalie Hampton":MAILTO:hamptonn@missouri.edu
END:VEVENT
BEGIN:VEVENT
DTSTART;VALUE=DATE:20260430
DTEND;VALUE=DATE:20260501
DTSTAMP:20260425T091735
CREATED:20250909T175723Z
LAST-MODIFIED:20250909T175723Z
UID:11024-1777507200-1777593599@moafterschool.org
SUMMARY:Ambassador Applications Due for 26-27 Cohort
DESCRIPTION:The ambassador program empowers up-and-coming leaders in the field to confidently and effectively advocate for afterschool access for all Missouri children. MASN provides training and mentorship to help ambassadors build relationships with federal\, state\, and local elected officials through in-person meetings\, program visits\, phone calls\, emails\, and social media.
URL:https://moafterschool.org/calendar/ambassador-applications-due-for-26-27-cohort/
CATEGORIES:Policy and Advocacy
ATTACH;FMTTYPE=image/png:https://moafterschool.org/wp-content/uploads/2024/04/cropped-Transparent-1.png
ORGANIZER;CN="Natalie Hampton":MAILTO:hamptonn@missouri.edu
END:VEVENT
END:VCALENDAR