BEGIN:VCALENDAR
VERSION:2.0
PRODID:-//Missouri AfterSchool Network - ECPv6.15.16.1//NONSGML v1.0//EN
CALSCALE:GREGORIAN
METHOD:PUBLISH
X-ORIGINAL-URL:https://moafterschool.org
X-WR-CALDESC:Events for Missouri AfterSchool Network
REFRESH-INTERVAL;VALUE=DURATION:PT1H
X-Robots-Tag:noindex
X-PUBLISHED-TTL:PT1H
BEGIN:VTIMEZONE
TZID:America/New_York
BEGIN:DAYLIGHT
TZOFFSETFROM:-0500
TZOFFSETTO:-0400
TZNAME:EDT
DTSTART:20240310T070000
END:DAYLIGHT
BEGIN:STANDARD
TZOFFSETFROM:-0400
TZOFFSETTO:-0500
TZNAME:EST
DTSTART:20241103T060000
END:STANDARD
BEGIN:DAYLIGHT
TZOFFSETFROM:-0500
TZOFFSETTO:-0400
TZNAME:EDT
DTSTART:20250309T070000
END:DAYLIGHT
BEGIN:STANDARD
TZOFFSETFROM:-0400
TZOFFSETTO:-0500
TZNAME:EST
DTSTART:20251102T060000
END:STANDARD
BEGIN:DAYLIGHT
TZOFFSETFROM:-0500
TZOFFSETTO:-0400
TZNAME:EDT
DTSTART:20260308T070000
END:DAYLIGHT
BEGIN:STANDARD
TZOFFSETFROM:-0400
TZOFFSETTO:-0500
TZNAME:EST
DTSTART:20261101T060000
END:STANDARD
END:VTIMEZONE
BEGIN:VEVENT
DTSTART;TZID=America/New_York:20250115T110000
DTEND;TZID=America/New_York:20250115T120000
DTSTAMP:20260424T221322
CREATED:20240613T191541Z
LAST-MODIFIED:20240613T191541Z
UID:6720-1736938800-1736942400@moafterschool.org
SUMMARY:Ambassador Meeting (Option 1)
DESCRIPTION:
URL:https://moafterschool.org/calendar/ambassador-meeting-option-1-5/
CATEGORIES:Afterschool Ambassadors,Policy and Advocacy
END:VEVENT
BEGIN:VEVENT
DTSTART;TZID=America/New_York:20250115T183000
DTEND;TZID=America/New_York:20250115T193000
DTSTAMP:20260424T221322
CREATED:20240613T191623Z
LAST-MODIFIED:20240613T191623Z
UID:6722-1736965800-1736969400@moafterschool.org
SUMMARY:Ambassador Meeting (Option 2)
DESCRIPTION:
URL:https://moafterschool.org/calendar/ambassador-meeting-option-2-4/
CATEGORIES:Afterschool Ambassadors,Policy and Advocacy
END:VEVENT
END:VCALENDAR