BEGIN:VCALENDAR
VERSION:2.0
PRODID:-//Missouri AfterSchool Network - ECPv6.15.16.1//NONSGML v1.0//EN
CALSCALE:GREGORIAN
METHOD:PUBLISH
X-ORIGINAL-URL:https://moafterschool.org
X-WR-CALDESC:Events for Missouri AfterSchool Network
REFRESH-INTERVAL;VALUE=DURATION:PT1H
X-Robots-Tag:noindex
X-PUBLISHED-TTL:PT1H
BEGIN:VTIMEZONE
TZID:UTC
BEGIN:STANDARD
TZOFFSETFROM:+0000
TZOFFSETTO:+0000
TZNAME:UTC
DTSTART:20240101T000000
END:STANDARD
END:VTIMEZONE
BEGIN:VEVENT
DTSTART;VALUE=DATE:20251121
DTEND;VALUE=DATE:20251124
DTSTAMP:20260424T112542
CREATED:20250909T162534Z
LAST-MODIFIED:20250909T162534Z
UID:10936-1763683200-1763942399@moafterschool.org
SUMMARY:Missouri School Age Conference (MOSAC)
DESCRIPTION:Join us for Missouri’s only state-wide conference dedicated to afterschool! MOSAC features nationally recognized keynote speakers\, opportunities to learn from peers\, and fun-filled social events. We encourage the program to send staff of all levels – from seasoned administrators to rookie entry-level staff. MOSAC is a wonderful opportunity to learn new information\, connect with others\, and feel valued as a professional.\nLearn. Connect. Celebrate.
URL:https://moafterschool.org/calendar/missouri-school-age-conference-mosac/
LOCATION:Lodge of the Four Seasons\, 315 Four Seasons Dr\, Lake Ozark\, Missouri\, 65049
CATEGORIES:MOSAC,Professional Development
ATTACH;FMTTYPE=image/jpeg:https://moafterschool.org/wp-content/uploads/2024/05/mosac-24-graphic-1.3-1.jpg
ORGANIZER;CN="Brad Lademann":MAILTO:lademannb@missouri.edu
END:VEVENT
END:VCALENDAR