BEGIN:VCALENDAR
VERSION:2.0
PRODID:-//Missouri AfterSchool Network - ECPv6.15.16.1//NONSGML v1.0//EN
CALSCALE:GREGORIAN
METHOD:PUBLISH
X-ORIGINAL-URL:https://moafterschool.org
X-WR-CALDESC:Events for Missouri AfterSchool Network
REFRESH-INTERVAL;VALUE=DURATION:PT1H
X-Robots-Tag:noindex
X-PUBLISHED-TTL:PT1H
BEGIN:VTIMEZONE
TZID:America/Chicago
BEGIN:DAYLIGHT
TZOFFSETFROM:-0600
TZOFFSETTO:-0500
TZNAME:CDT
DTSTART:20250309T080000
END:DAYLIGHT
BEGIN:STANDARD
TZOFFSETFROM:-0500
TZOFFSETTO:-0600
TZNAME:CST
DTSTART:20251102T070000
END:STANDARD
BEGIN:DAYLIGHT
TZOFFSETFROM:-0600
TZOFFSETTO:-0500
TZNAME:CDT
DTSTART:20260308T080000
END:DAYLIGHT
BEGIN:STANDARD
TZOFFSETFROM:-0500
TZOFFSETTO:-0600
TZNAME:CST
DTSTART:20261101T070000
END:STANDARD
BEGIN:DAYLIGHT
TZOFFSETFROM:-0600
TZOFFSETTO:-0500
TZNAME:CDT
DTSTART:20270314T080000
END:DAYLIGHT
BEGIN:STANDARD
TZOFFSETFROM:-0500
TZOFFSETTO:-0600
TZNAME:CST
DTSTART:20271107T070000
END:STANDARD
END:VTIMEZONE
BEGIN:VEVENT
DTSTART;TZID=America/Chicago:20260513T100000
DTEND;TZID=America/Chicago:20260513T113000
DTSTAMP:20260423T213134
CREATED:20250909T152818Z
LAST-MODIFIED:20250909T152818Z
UID:10861-1778666400-1778671800@moafterschool.org
SUMMARY:Youth Workforce Initiatives PLC
DESCRIPTION:The Entrepreneurship in Afterschool Peer Learning Community (PLC) provides support and resources to afterschool programs engaging in entrepreneurship education. Although entrepreneurship education is available to all grades\, this PLC focuses on opportunities for middle and high school students in out-of-school time programs. As a peer learning community\, this group shares best practices and resources for developing a healthy youth entrepreneurship ecosystem around the state. \nThe Youth Workforce Initiatives PLC provides support and resources to middle school and high school afterschool programs engaging in college and career readiness/career awareness and post-secondary access activities. As a peer learning community\, this group shares best practices and resources supporting students’ future hopes and dreams through career pathway planning.
URL:https://moafterschool.org/calendar/youth-workforce-initiatives-plc-6/
LOCATION:MO
ATTACH;FMTTYPE=image/png:https://moafterschool.org/wp-content/uploads/2024/04/cropped-Transparent-1.png
ORGANIZER;CN="Aaron Banks":MAILTO:abanks@missouri.edu
END:VEVENT
BEGIN:VEVENT
DTSTART;TZID=America/Chicago:20260513T130000
DTEND;TZID=America/Chicago:20260513T140000
DTSTAMP:20260423T213134
CREATED:20250909T163702Z
LAST-MODIFIED:20250909T163702Z
UID:10951-1778677200-1778680800@moafterschool.org
SUMMARY:Director Networking Call
DESCRIPTION:MASN facilitates monthly Afterschool Program Director Networking Calls on the 2nd Wednesday of each month. Each opportunity to collaborate will focus on a different topic\, announced in advance\, so program directors can prepare questions or be ready to share experiences and expertise.
URL:https://moafterschool.org/calendar/director-networking-call-16/
LOCATION:MO
ATTACH;FMTTYPE=image/png:https://moafterschool.org/wp-content/uploads/2024/04/cropped-Transparent-1.png
ORGANIZER;CN="Brad Lademann":MAILTO:lademannb@missouri.edu
END:VEVENT
END:VCALENDAR