BEGIN:VCALENDAR
VERSION:2.0
PRODID:-//Missouri AfterSchool Network - ECPv6.15.16.1//NONSGML v1.0//EN
CALSCALE:GREGORIAN
METHOD:PUBLISH
X-ORIGINAL-URL:https://moafterschool.org
X-WR-CALDESC:Events for Missouri AfterSchool Network
REFRESH-INTERVAL;VALUE=DURATION:PT1H
X-Robots-Tag:noindex
X-PUBLISHED-TTL:PT1H
BEGIN:VTIMEZONE
TZID:America/Chicago
BEGIN:DAYLIGHT
TZOFFSETFROM:-0600
TZOFFSETTO:-0500
TZNAME:CDT
DTSTART:20250309T080000
END:DAYLIGHT
BEGIN:STANDARD
TZOFFSETFROM:-0500
TZOFFSETTO:-0600
TZNAME:CST
DTSTART:20251102T070000
END:STANDARD
BEGIN:DAYLIGHT
TZOFFSETFROM:-0600
TZOFFSETTO:-0500
TZNAME:CDT
DTSTART:20260308T080000
END:DAYLIGHT
BEGIN:STANDARD
TZOFFSETFROM:-0500
TZOFFSETTO:-0600
TZNAME:CST
DTSTART:20261101T070000
END:STANDARD
BEGIN:DAYLIGHT
TZOFFSETFROM:-0600
TZOFFSETTO:-0500
TZNAME:CDT
DTSTART:20270314T080000
END:DAYLIGHT
BEGIN:STANDARD
TZOFFSETFROM:-0500
TZOFFSETTO:-0600
TZNAME:CST
DTSTART:20271107T070000
END:STANDARD
END:VTIMEZONE
BEGIN:VEVENT
DTSTART;VALUE=DATE:20260420
DTEND;VALUE=DATE:20260425
DTSTAMP:20260423T202043
CREATED:20250909T180553Z
LAST-MODIFIED:20250909T180553Z
UID:11032-1776643200-1777075199@moafterschool.org
SUMMARY:Afterschool Professionals Appreciation Week
DESCRIPTION:Afterschool Professionals Appreciation Week is a time set aside to intentionally recognize those working in afterschool programs for the impact they have on students and to show them appreciation and gratitude for the work they put in throughout the school year. In partnership with the National Afterschool Association (NAA)\, afterschool programs across the state let their program staff know how much they are valued and loved.
URL:https://moafterschool.org/calendar/afterschool-professionals-appreciation-week-2/
LOCATION:MO
ATTACH;FMTTYPE=image/png:https://moafterschool.org/wp-content/uploads/2024/04/cropped-Transparent-1.png
ORGANIZER;CN="Brad Lademann":MAILTO:lademannb@missouri.edu
END:VEVENT
BEGIN:VEVENT
DTSTART;TZID=America/Chicago:20260421T100000
DTEND;TZID=America/Chicago:20260421T113000
DTSTAMP:20260423T202043
CREATED:20250818T220711Z
LAST-MODIFIED:20250818T220711Z
UID:10701-1776765600-1776771000@moafterschool.org
SUMMARY:Pipeline LIVE! Monthly Director Update
DESCRIPTION:Join afterschool program directors from across the state on the third Tuesday of each month for an informative\, virtual call. Each month\, MASN provides information on all things afterschool happening in Missouri. The information often includes funding and partnership opportunities\, policy highlights\, events and professional development\, and a chance to ask questions of your fellow program directors. The first part of the call is geared to all program directors. The second part of the call is specifically for DESE grantee program directors.\nRegister today!
URL:https://moafterschool.org/calendar/pipeline-live-monthly-director-update-18/
LOCATION:MO
CATEGORIES:Director's Meeting,Pipeline LIVE!
ORGANIZER;CN="Brad Lademann":MAILTO:lademannb@missouri.edu
END:VEVENT
END:VCALENDAR