BEGIN:VCALENDAR
VERSION:2.0
PRODID:-//Missouri AfterSchool Network - ECPv6.15.16.1//NONSGML v1.0//EN
CALSCALE:GREGORIAN
METHOD:PUBLISH
X-ORIGINAL-URL:https://moafterschool.org
X-WR-CALDESC:Events for Missouri AfterSchool Network
REFRESH-INTERVAL;VALUE=DURATION:PT1H
X-Robots-Tag:noindex
X-PUBLISHED-TTL:PT1H
BEGIN:VTIMEZONE
TZID:America/Chicago
BEGIN:DAYLIGHT
TZOFFSETFROM:-0600
TZOFFSETTO:-0500
TZNAME:CDT
DTSTART:20250309T080000
END:DAYLIGHT
BEGIN:STANDARD
TZOFFSETFROM:-0500
TZOFFSETTO:-0600
TZNAME:CST
DTSTART:20251102T070000
END:STANDARD
BEGIN:DAYLIGHT
TZOFFSETFROM:-0600
TZOFFSETTO:-0500
TZNAME:CDT
DTSTART:20260308T080000
END:DAYLIGHT
BEGIN:STANDARD
TZOFFSETFROM:-0500
TZOFFSETTO:-0600
TZNAME:CST
DTSTART:20261101T070000
END:STANDARD
BEGIN:DAYLIGHT
TZOFFSETFROM:-0600
TZOFFSETTO:-0500
TZNAME:CDT
DTSTART:20270314T080000
END:DAYLIGHT
BEGIN:STANDARD
TZOFFSETFROM:-0500
TZOFFSETTO:-0600
TZNAME:CST
DTSTART:20271107T070000
END:STANDARD
END:VTIMEZONE
BEGIN:VEVENT
DTSTART;VALUE=DATE:20260216
DTEND;VALUE=DATE:20260221
DTSTAMP:20260423T225737
CREATED:20250909T174328Z
LAST-MODIFIED:20250909T174328Z
UID:11011-1771200000-1771631999@moafterschool.org
SUMMARY:Mental Health Week
DESCRIPTION:
URL:https://moafterschool.org/calendar/mental-health-week/
LOCATION:MO
ORGANIZER;CN="Natalie Hampton":MAILTO:hamptonn@missouri.edu
END:VEVENT
BEGIN:VEVENT
DTSTART;VALUE=DATE:20260218
DTEND;VALUE=DATE:20260219
DTSTAMP:20260423T225737
CREATED:20250909T174142Z
LAST-MODIFIED:20250909T174142Z
UID:11009-1771372800-1771459199@moafterschool.org
SUMMARY:Mental Health in Afterschool Day at the Capitol
DESCRIPTION:Join us at the capitol for Mental Health in Afterschool Day! We will speak to legislators about how afterschool programs provide critical support to help youth thrive\, including;\n\nAdditional mentorship;\nThe ability to explore new interests;\nSkills to gain self-control and confidence; and\nProtection from the harms of social media and substance use. 
URL:https://moafterschool.org/calendar/mental-health-in-afterschool-day-at-the-capitol/
LOCATION:Missouri State Capitol\, 201 W Capitol Ave\, Jefferson City\, MO\, 65101\, United States
ORGANIZER;CN="Natalie Hampton":MAILTO:hamptonn@missouri.edu
END:VEVENT
BEGIN:VEVENT
DTSTART;TZID=America/Chicago:20260218T183000
DTEND;TZID=America/Chicago:20260218T193000
DTSTAMP:20260423T225737
CREATED:20250909T155011Z
LAST-MODIFIED:20250909T155011Z
UID:10884-1771439400-1771443000@moafterschool.org
SUMMARY:Ambassador Monthly Meeting
DESCRIPTION:The Afterschool Ambassadors program empowers up-and-coming leaders in the field of afterschool to confidently and effectively advocate for afterschool access for all Missouri children. By actively attending in-person meetings\, program visits\, phone calls\, emails\, and social media\, ambassadors are able to build strong relationships with our federal\, state\, and local elected officials. Each year\, MASN’s policy committee chooses 5-10 new applicants and provides the selected applicants with training\, peer networking opportunities\, and mentorship.  \nTimes: 11:00 a.m. – 12:00 p.m. or 6:30 p.m. – 7:30 p.m.
URL:https://moafterschool.org/calendar/ambassador-monthly-meeting-16/
LOCATION:MO
ATTACH;FMTTYPE=image/png:https://moafterschool.org/wp-content/uploads/2024/04/cropped-Transparent-1.png
ORGANIZER;CN="Natalie Hampton":MAILTO:hamptonn@missouri.edu
END:VEVENT
END:VCALENDAR