BEGIN:VCALENDAR
VERSION:2.0
PRODID:-//Missouri AfterSchool Network - ECPv6.15.16.1//NONSGML v1.0//EN
CALSCALE:GREGORIAN
METHOD:PUBLISH
X-ORIGINAL-URL:https://moafterschool.org
X-WR-CALDESC:Events for Missouri AfterSchool Network
REFRESH-INTERVAL;VALUE=DURATION:PT1H
X-Robots-Tag:noindex
X-PUBLISHED-TTL:PT1H
BEGIN:VTIMEZONE
TZID:America/New_York
BEGIN:DAYLIGHT
TZOFFSETFROM:-0500
TZOFFSETTO:-0400
TZNAME:EDT
DTSTART:20240310T070000
END:DAYLIGHT
BEGIN:STANDARD
TZOFFSETFROM:-0400
TZOFFSETTO:-0500
TZNAME:EST
DTSTART:20241103T060000
END:STANDARD
BEGIN:DAYLIGHT
TZOFFSETFROM:-0500
TZOFFSETTO:-0400
TZNAME:EDT
DTSTART:20250309T070000
END:DAYLIGHT
BEGIN:STANDARD
TZOFFSETFROM:-0400
TZOFFSETTO:-0500
TZNAME:EST
DTSTART:20251102T060000
END:STANDARD
BEGIN:DAYLIGHT
TZOFFSETFROM:-0500
TZOFFSETTO:-0400
TZNAME:EDT
DTSTART:20260308T070000
END:DAYLIGHT
BEGIN:STANDARD
TZOFFSETFROM:-0400
TZOFFSETTO:-0500
TZNAME:EST
DTSTART:20261101T060000
END:STANDARD
END:VTIMEZONE
BEGIN:VTIMEZONE
TZID:America/Chicago
BEGIN:DAYLIGHT
TZOFFSETFROM:-0600
TZOFFSETTO:-0500
TZNAME:CDT
DTSTART:20240310T080000
END:DAYLIGHT
BEGIN:STANDARD
TZOFFSETFROM:-0500
TZOFFSETTO:-0600
TZNAME:CST
DTSTART:20241103T070000
END:STANDARD
BEGIN:DAYLIGHT
TZOFFSETFROM:-0600
TZOFFSETTO:-0500
TZNAME:CDT
DTSTART:20250309T080000
END:DAYLIGHT
BEGIN:STANDARD
TZOFFSETFROM:-0500
TZOFFSETTO:-0600
TZNAME:CST
DTSTART:20251102T070000
END:STANDARD
BEGIN:DAYLIGHT
TZOFFSETFROM:-0600
TZOFFSETTO:-0500
TZNAME:CDT
DTSTART:20260308T080000
END:DAYLIGHT
BEGIN:STANDARD
TZOFFSETFROM:-0500
TZOFFSETTO:-0600
TZNAME:CST
DTSTART:20261101T070000
END:STANDARD
END:VTIMEZONE
BEGIN:VEVENT
DTSTART;TZID=America/New_York:20251009T083000
DTEND;TZID=America/New_York:20251009T153000
DTSTAMP:20260424T054436
CREATED:20250909T170600Z
LAST-MODIFIED:20250909T170600Z
UID:10977-1759998600-1760023800@moafterschool.org
SUMMARY:Middle School / High School Leadership Summit
DESCRIPTION:Bring your students to the Middle School and High School Leadership Summits this fall! These events offer hands-on activities\, peer networking\, and youth leadership skills in a fun\, engaging environment.
URL:https://moafterschool.org/calendar/middle-school-high-school-leadership-summit-3/
LOCATION:Southeast Missouri State University\, 1 University Plaza\, Cape Girardeau\, 63701\, United States
ORGANIZER;CN="Aaron Banks":MAILTO:abanks@missouri.edu
END:VEVENT
BEGIN:VEVENT
DTSTART;TZID=America/New_York:20251009T100000
DTEND;TZID=America/New_York:20251009T120000
DTSTAMP:20260424T054436
CREATED:20250909T170757Z
LAST-MODIFIED:20250909T170757Z
UID:10980-1760004000-1760011200@moafterschool.org
SUMMARY:STEM Committee Meeting
DESCRIPTION:The STEM (Science\, Technology\, Engineering\, and Mathematics) Committee is a standing committee that provides leadership for STEM related partnerships and policies\, along with coordinating efforts to improve access to and professional development for STEM activities in out-of-school time settings.
URL:https://moafterschool.org/calendar/stem-committee-meeting-5/
LOCATION:MO
CATEGORIES:Committees,STEM,STEM Committee
ORGANIZER;CN="Beth Rasa Edwards":MAILTO:rasab@missouri.edu
END:VEVENT
BEGIN:VEVENT
DTSTART;TZID=America/Chicago:20251009T180000
DTEND;TZID=America/Chicago:20251009T193000
DTSTAMP:20260424T054436
CREATED:20250909T171415Z
LAST-MODIFIED:20250916T151824Z
UID:10988-1760032800-1760038200@moafterschool.org
SUMMARY:Virtual Professional Development
DESCRIPTION:Topic: Brains\, Bodies\, & Big Feelings: Developmental Insights for Afterschool Success \nThis Virtual PD session will offer the basics of the developmental process for children. It will focus mostly on the elementary/middle childhood ages and the important tasks and milestones that would be most related to how kids “show up” to programs.\n(1.5 clock hours available for each session) \n 
URL:https://moafterschool.org/calendar/virtual-professional-development-2/
LOCATION:MO
ATTACH;FMTTYPE=image/png:https://moafterschool.org/wp-content/uploads/2024/04/cropped-Transparent-1.png
ORGANIZER;CN="Brad Lademann":MAILTO:lademannb@missouri.edu
END:VEVENT
END:VCALENDAR