BEGIN:VCALENDAR
VERSION:2.0
PRODID:-//Missouri AfterSchool Network - ECPv6.15.16.1//NONSGML v1.0//EN
CALSCALE:GREGORIAN
METHOD:PUBLISH
X-ORIGINAL-URL:https://moafterschool.org
X-WR-CALDESC:Events for Missouri AfterSchool Network
REFRESH-INTERVAL;VALUE=DURATION:PT1H
X-Robots-Tag:noindex
X-PUBLISHED-TTL:PT1H
BEGIN:VTIMEZONE
TZID:America/Chicago
BEGIN:DAYLIGHT
TZOFFSETFROM:-0600
TZOFFSETTO:-0500
TZNAME:CDT
DTSTART:20240310T080000
END:DAYLIGHT
BEGIN:STANDARD
TZOFFSETFROM:-0500
TZOFFSETTO:-0600
TZNAME:CST
DTSTART:20241103T070000
END:STANDARD
BEGIN:DAYLIGHT
TZOFFSETFROM:-0600
TZOFFSETTO:-0500
TZNAME:CDT
DTSTART:20250309T080000
END:DAYLIGHT
BEGIN:STANDARD
TZOFFSETFROM:-0500
TZOFFSETTO:-0600
TZNAME:CST
DTSTART:20251102T070000
END:STANDARD
BEGIN:DAYLIGHT
TZOFFSETFROM:-0600
TZOFFSETTO:-0500
TZNAME:CDT
DTSTART:20260308T080000
END:DAYLIGHT
BEGIN:STANDARD
TZOFFSETFROM:-0500
TZOFFSETTO:-0600
TZNAME:CST
DTSTART:20261101T070000
END:STANDARD
END:VTIMEZONE
BEGIN:VEVENT
DTSTART;TZID=America/Chicago:20250611T130000
DTEND;TZID=America/Chicago:20250611T140000
DTSTAMP:20260424T121910
CREATED:20240731T201025Z
LAST-MODIFIED:20240802T142158Z
UID:7560-1749646800-1749650400@moafterschool.org
SUMMARY:Director Networking Call
DESCRIPTION:MASN facilitates monthly Afterschool Program Director Networking Calls on the 2nd Wednesday of each month. Each opportunity to collaborate will focus on a different topic\, announced in advance\, so program directors can prepare questions or be ready to share experiences and expertise.
URL:https://moafterschool.org/calendar/director-networking-call-8/
LOCATION:MO
ATTACH;FMTTYPE=image/png:https://moafterschool.org/wp-content/uploads/2024/04/cropped-Transparent-1.png
ORGANIZER;CN="Brad Lademann":MAILTO:lademannb@missouri.edu
END:VEVENT
END:VCALENDAR